BEGIN:VCALENDAR
VERSION:2.0
PRODID:-//Kommbio - ECPv6.15.17.1//NONSGML v1.0//EN
CALSCALE:GREGORIAN
METHOD:PUBLISH
X-WR-CALNAME:Kommbio
X-ORIGINAL-URL:https://kommbio.de
X-WR-CALDESC:Veranstaltungen für Kommbio
REFRESH-INTERVAL;VALUE=DURATION:PT1H
X-Robots-Tag:noindex
X-PUBLISHED-TTL:PT1H
BEGIN:VTIMEZONE
TZID:Europe/Berlin
BEGIN:DAYLIGHT
TZOFFSETFROM:+0100
TZOFFSETTO:+0200
TZNAME:CEST
DTSTART:20250330T010000
END:DAYLIGHT
BEGIN:STANDARD
TZOFFSETFROM:+0200
TZOFFSETTO:+0100
TZNAME:CET
DTSTART:20251026T010000
END:STANDARD
BEGIN:DAYLIGHT
TZOFFSETFROM:+0100
TZOFFSETTO:+0200
TZNAME:CEST
DTSTART:20260329T010000
END:DAYLIGHT
BEGIN:STANDARD
TZOFFSETFROM:+0200
TZOFFSETTO:+0100
TZNAME:CET
DTSTART:20261025T010000
END:STANDARD
BEGIN:DAYLIGHT
TZOFFSETFROM:+0100
TZOFFSETTO:+0200
TZNAME:CEST
DTSTART:20270328T010000
END:DAYLIGHT
BEGIN:STANDARD
TZOFFSETFROM:+0200
TZOFFSETTO:+0100
TZNAME:CET
DTSTART:20271031T010000
END:STANDARD
END:VTIMEZONE
BEGIN:VEVENT
DTSTART;VALUE=DATE:20260507
DTEND;VALUE=DATE:20260508
DTSTAMP:20260423T192354
CREATED:20260423T162710Z
LAST-MODIFIED:20260423T162710Z
UID:10000905-1778112000-1778198399@kommbio.de
SUMMARY:Bunte Insektenweide oder alles Unkraut?
DESCRIPTION:Globale Herausforderungen\, wie das aktuelle Arten- und Insektensterben\, erscheinen oft wie unüberwindbare Probleme\, gegenüber denen der Einzelne ohnehin nichts tun kann. Doch das Gegenteil ist der Fall: Schon im eigenen Garten oder dem Hinterhof kann jeder beispielswiese eine kleine Ecke als Blühwiese anlegen und so Schmetterlingen\, Bienen und anderen Insekten eine wichtige Nahrungsquelle sowie Unterschlupf bieten. Welche Vorteile Blühwiesen noch bieten und worauf man bei der Anlage achten sollte\, erklärt Gordon Käbelmann in seinem Vortrag: „Bunte Insektenweide oder alles Unkraut?“ am 06. Mai um 18.30 Uhr. \nDieser Vortrag ist Teil des Begleitprogramms zum neuen Label „Stadtgrün naturnah“ der Stadt Waren (Müritz) und wird Ihnen in Kooperation mit der Ortsgruppe des BUND M-V\, der Stadt Waren und „Natur im Garten MV“ Regional präsentiert. \nAnnika Anders vom Amt für Bau\, Umwelt und Stadtplanung der Stadt Waren wird den Vortrag mit bereits erfolgreich umgesetzten Beispielen aus dem Stadtgebiet ergänzen. Auf diese Weise werden die Ideen und Möglichkeiten\, die Herr Käbelmann referiert\, mit konkreten Praxisbeispielen belegt. Seien Sie dabei und vielleicht haben auch Sie noch Ideen für die Stadt Waren\, wie sie noch grüner zu werden kann. \nDes Weiteren ergänzt Juliane Drescher\, Regionalkoordinatorin von „Natur im Garten MV“ Regional den Abend mit dem projekteigenen Infostand und der (Wildpflanzen)Saatguttauschbörse. Bringen Sie gerne eigenes\, samenfestes Saatgut zum Tauschen mit! \nDas Müritzeum lädt alle Interessierten ein\, sich auf die neue Gartensaison mit diesem Vortragsabend einzustimmen.\nDer Eintritt ist wie immer kostenfrei\, das NaturErlebnisZentrum freut sich über eine Spende.
URL:https://kommbio.de/termin/bunte-insektenweide-oder-alles-unkraut/
LOCATION:Waren (Müritz)
CATEGORIES:Artenschutz & Biodiversität,Gärten,Grün- und Freiflächen: Anlage, Gestaltung, Pflege
END:VEVENT
END:VCALENDAR