BEGIN:VCALENDAR
VERSION:2.0
PRODID:-//Kommbio - ECPv6.15.17.1//NONSGML v1.0//EN
CALSCALE:GREGORIAN
METHOD:PUBLISH
X-WR-CALNAME:Kommbio
X-ORIGINAL-URL:https://kommbio.de
X-WR-CALDESC:Veranstaltungen für Kommbio
REFRESH-INTERVAL;VALUE=DURATION:PT1H
X-Robots-Tag:noindex
X-PUBLISHED-TTL:PT1H
BEGIN:VTIMEZONE
TZID:Europe/Berlin
BEGIN:DAYLIGHT
TZOFFSETFROM:+0100
TZOFFSETTO:+0200
TZNAME:CEST
DTSTART:20220327T010000
END:DAYLIGHT
BEGIN:STANDARD
TZOFFSETFROM:+0200
TZOFFSETTO:+0100
TZNAME:CET
DTSTART:20221030T010000
END:STANDARD
BEGIN:DAYLIGHT
TZOFFSETFROM:+0100
TZOFFSETTO:+0200
TZNAME:CEST
DTSTART:20230326T010000
END:DAYLIGHT
BEGIN:STANDARD
TZOFFSETFROM:+0200
TZOFFSETTO:+0100
TZNAME:CET
DTSTART:20231029T010000
END:STANDARD
BEGIN:DAYLIGHT
TZOFFSETFROM:+0100
TZOFFSETTO:+0200
TZNAME:CEST
DTSTART:20240331T010000
END:DAYLIGHT
BEGIN:STANDARD
TZOFFSETFROM:+0200
TZOFFSETTO:+0100
TZNAME:CET
DTSTART:20241027T010000
END:STANDARD
END:VTIMEZONE
BEGIN:VEVENT
DTSTART;VALUE=DATE:20230824
DTEND;VALUE=DATE:20230825
DTSTAMP:20260423T074726
CREATED:20230724T130816Z
LAST-MODIFIED:20240826T131501Z
UID:10000125-1692835200-1692921599@kommbio.de
SUMMARY:Baumsymposium 2023
DESCRIPTION:Urbanisierung und Klimaveränderungen stellen verschärfte Herausforderungen an die Planung und Umsetzung städtischen Grüns\, Baumschulen richten ihre Sortimente zukunftsorientiert aus. Einige Städte sind unmittelbar mit dem Thema Schwammstadt konfrontiert. Wie urbane Baumstandorte in diesem Kontext nachhaltig gestaltet werden können\, soll das Thema dieser Veranstaltung sein.
URL:https://kommbio.de/termin/baumsymposium-2023/
LOCATION:Köln-Auweiler
CATEGORIES:Bäume & Gehölze
END:VEVENT
END:VCALENDAR