BEGIN:VCALENDAR
VERSION:2.0
PRODID:-//Kommbio - ECPv6.15.17.1//NONSGML v1.0//EN
CALSCALE:GREGORIAN
METHOD:PUBLISH
X-ORIGINAL-URL:https://kommbio.de
X-WR-CALDESC:Veranstaltungen für Kommbio
REFRESH-INTERVAL;VALUE=DURATION:PT1H
X-Robots-Tag:noindex
X-PUBLISHED-TTL:PT1H
BEGIN:VTIMEZONE
TZID:Europe/Berlin
BEGIN:DAYLIGHT
TZOFFSETFROM:+0100
TZOFFSETTO:+0200
TZNAME:CEST
DTSTART:20250330T010000
END:DAYLIGHT
BEGIN:STANDARD
TZOFFSETFROM:+0200
TZOFFSETTO:+0100
TZNAME:CET
DTSTART:20251026T010000
END:STANDARD
BEGIN:DAYLIGHT
TZOFFSETFROM:+0100
TZOFFSETTO:+0200
TZNAME:CEST
DTSTART:20260329T010000
END:DAYLIGHT
BEGIN:STANDARD
TZOFFSETFROM:+0200
TZOFFSETTO:+0100
TZNAME:CET
DTSTART:20261025T010000
END:STANDARD
BEGIN:DAYLIGHT
TZOFFSETFROM:+0100
TZOFFSETTO:+0200
TZNAME:CEST
DTSTART:20270328T010000
END:DAYLIGHT
BEGIN:STANDARD
TZOFFSETFROM:+0200
TZOFFSETTO:+0100
TZNAME:CET
DTSTART:20271031T010000
END:STANDARD
END:VTIMEZONE
BEGIN:VEVENT
DTSTART;VALUE=DATE:20260529
DTEND;VALUE=DATE:20260531
DTSTAMP:20260424T235736
CREATED:20260423T144119Z
LAST-MODIFIED:20260423T144119Z
UID:10000868-1780012800-1780185599@kommbio.de
SUMMARY:105. Niedersachsentag
DESCRIPTION:unsere gewachsenen Kulturlandschaften sind Zeugnisse menschlicher Geschichte und zugleich Grundlage für eine lebendige Zukunft. Der Niedersächsische Heimatbund (NHB) nimmt dieses Potenzial in den Blick und lädt in diesem Jahr unter dem Motto „Kulturlandschaft als Chance“ nach Holzminden ein – in eine Region\, die mit ihrer Vielfalt an Kulturlandschaft\, Baukultur und Geschichte beeindruckt.
URL:https://kommbio.de/termin/105-niedersachsentag/
LOCATION:Holzminden
CATEGORIES:Regional- und Stadtentwicklung
END:VEVENT
END:VCALENDAR