BEGIN:VCALENDAR
VERSION:2.0
PRODID:-//Kommbio - ECPv6.15.17.1//NONSGML v1.0//EN
CALSCALE:GREGORIAN
METHOD:PUBLISH
X-WR-CALNAME:Kommbio
X-ORIGINAL-URL:https://kommbio.de
X-WR-CALDESC:Veranstaltungen für Kommbio
REFRESH-INTERVAL;VALUE=DURATION:PT1H
X-Robots-Tag:noindex
X-PUBLISHED-TTL:PT1H
BEGIN:VTIMEZONE
TZID:Europe/Berlin
BEGIN:DAYLIGHT
TZOFFSETFROM:+0100
TZOFFSETTO:+0200
TZNAME:CEST
DTSTART:20250330T010000
END:DAYLIGHT
BEGIN:STANDARD
TZOFFSETFROM:+0200
TZOFFSETTO:+0100
TZNAME:CET
DTSTART:20251026T010000
END:STANDARD
BEGIN:DAYLIGHT
TZOFFSETFROM:+0100
TZOFFSETTO:+0200
TZNAME:CEST
DTSTART:20260329T010000
END:DAYLIGHT
BEGIN:STANDARD
TZOFFSETFROM:+0200
TZOFFSETTO:+0100
TZNAME:CET
DTSTART:20261025T010000
END:STANDARD
BEGIN:DAYLIGHT
TZOFFSETFROM:+0100
TZOFFSETTO:+0200
TZNAME:CEST
DTSTART:20270328T010000
END:DAYLIGHT
BEGIN:STANDARD
TZOFFSETFROM:+0200
TZOFFSETTO:+0100
TZNAME:CET
DTSTART:20271031T010000
END:STANDARD
END:VTIMEZONE
BEGIN:VEVENT
DTSTART;VALUE=DATE:20260512
DTEND;VALUE=DATE:20260513
DTSTAMP:20260423T192449
CREATED:20260423T163155Z
LAST-MODIFIED:20260423T163155Z
UID:10000906-1778544000-1778630399@kommbio.de
SUMMARY:Blühende Dächer und Grünstreifen – auch im Unternehmen
DESCRIPTION:Sommerliche Hitzewellen und Trockenphasen motivieren immer mehr Kommunen\, Fassaden- und Dachbegrünung und andere Klimaanpassungsmaßnahmen in die Stadtplanung zu integrieren. \nWelche Erfahrungen gibt es bereits\, auch zu Pflege und Folgekosten? Wie auch Unternehmen\, kommunale Betriebe und Wohnungsgesellschaften aktiv werden und unterschiedliche Dachformen zur Begrünung genutzt werden können\, wird mit vielen praktischen Beispielen auf den blühenden Dächern des artefact-Zentrums dargestellt.
URL:https://kommbio.de/termin/bluehende-daecher-und-gruenstreifen-auch-im-unternehmen/
LOCATION:Glücksburg
CATEGORIES:Gebäudebegrünung
END:VEVENT
END:VCALENDAR